BEGIN:VCALENDAR
VERSION:2.0
PRODID:-//Dormont Public Library - ECPv6.15.20//NONSGML v1.0//EN
CALSCALE:GREGORIAN
METHOD:PUBLISH
X-WR-CALNAME:Dormont Public Library
X-ORIGINAL-URL:https://dormontlibrary.org
X-WR-CALDESC:Events for Dormont Public Library
REFRESH-INTERVAL;VALUE=DURATION:PT1H
X-Robots-Tag:noindex
X-PUBLISHED-TTL:PT1H
BEGIN:VTIMEZONE
TZID:America/New_York
BEGIN:DAYLIGHT
TZOFFSETFROM:-0500
TZOFFSETTO:-0400
TZNAME:EDT
DTSTART:20250309T070000
END:DAYLIGHT
BEGIN:STANDARD
TZOFFSETFROM:-0400
TZOFFSETTO:-0500
TZNAME:EST
DTSTART:20251102T060000
END:STANDARD
BEGIN:DAYLIGHT
TZOFFSETFROM:-0500
TZOFFSETTO:-0400
TZNAME:EDT
DTSTART:20260308T070000
END:DAYLIGHT
BEGIN:STANDARD
TZOFFSETFROM:-0400
TZOFFSETTO:-0500
TZNAME:EST
DTSTART:20261101T060000
END:STANDARD
BEGIN:DAYLIGHT
TZOFFSETFROM:-0500
TZOFFSETTO:-0400
TZNAME:EDT
DTSTART:20270314T070000
END:DAYLIGHT
BEGIN:STANDARD
TZOFFSETFROM:-0400
TZOFFSETTO:-0500
TZNAME:EST
DTSTART:20271107T060000
END:STANDARD
BEGIN:DAYLIGHT
TZOFFSETFROM:-0500
TZOFFSETTO:-0400
TZNAME:EDT
DTSTART:20280312T070000
END:DAYLIGHT
BEGIN:STANDARD
TZOFFSETFROM:-0400
TZOFFSETTO:-0500
TZNAME:EST
DTSTART:20281105T060000
END:STANDARD
BEGIN:DAYLIGHT
TZOFFSETFROM:-0500
TZOFFSETTO:-0400
TZNAME:EDT
DTSTART:20290311T070000
END:DAYLIGHT
BEGIN:STANDARD
TZOFFSETFROM:-0400
TZOFFSETTO:-0500
TZNAME:EST
DTSTART:20291104T060000
END:STANDARD
END:VTIMEZONE
BEGIN:VEVENT
DTSTART;TZID=America/New_York:20260905T130000
DTEND;TZID=America/New_York:20260905T143000
DTSTAMP:20260421T171339
CREATED:20260106T175417Z
LAST-MODIFIED:20260421T175344Z
UID:10001230-1788613200-1788618600@dormontlibrary.org
SUMMARY:Lit Happens Adult Book Club
DESCRIPTION:Lit Happens is our adult book club\, meeting the first Saturday monthly at 1 PM. \nBooks are chosen by the group members in three-month blocks. \nOur lineup for 2026 so far includes \n– January: The Life Cycle of the Common Octopus by Emma Knight– February: The Comfort Book by Matt Haig– March: Nothing to See Here by Kevin Wilson– April: Beautiful Ugly by Alice Feeney– May: Slaughterhouse-Five by Kurt Vonnegut– June: This Tender Land by William Kent Krueger– July/August/September: Decided at the June meeting– October/November/December: Decided at the September meeting
URL:https://dormontlibrary.org/wp-event/lit-happens-adult-book-club-12/
LOCATION:2950 West Liberty Avenue\, Pittsburgh\, PA\, United States
CATEGORIES:Book Club
GEO:40.400091;-80.046176
END:VEVENT
BEGIN:VEVENT
DTSTART;TZID=America/New_York:20260919T103000
DTEND;TZID=America/New_York:20260919T113000
DTSTAMP:20260421T171339
CREATED:20251223T180937Z
LAST-MODIFIED:20260421T175344Z
UID:10001200-1789813800-1789817400@dormontlibrary.org
SUMMARY:LEGO Club (2026)
DESCRIPTION:Children and families are welcome at our monthly LEGO club! Use our big bin of LEGO and compatible bricks to put together a creation that’s uniquely your own.If you can imagine it\, you can build it.
URL:https://dormontlibrary.org/wp-event/lego-club-2026-9/
LOCATION:2950 West Liberty Avenue\, Pittsburgh\, PA\, United States
CATEGORIES:Arts & Crafts
GEO:40.400091;-80.046176
END:VEVENT
BEGIN:VEVENT
DTSTART;TZID=America/New_York:20261003T130000
DTEND;TZID=America/New_York:20261003T143000
DTSTAMP:20260421T171339
CREATED:20260106T175417Z
LAST-MODIFIED:20260421T175344Z
UID:10001231-1791032400-1791037800@dormontlibrary.org
SUMMARY:Lit Happens Adult Book Club
DESCRIPTION:Lit Happens is our adult book club\, meeting the first Saturday monthly at 1 PM. \nBooks are chosen by the group members in three-month blocks. \nOur lineup for 2026 so far includes \n– January: The Life Cycle of the Common Octopus by Emma Knight– February: The Comfort Book by Matt Haig– March: Nothing to See Here by Kevin Wilson– April: Beautiful Ugly by Alice Feeney– May: Slaughterhouse-Five by Kurt Vonnegut– June: This Tender Land by William Kent Krueger– July/August/September: Decided at the June meeting– October/November/December: Decided at the September meeting
URL:https://dormontlibrary.org/wp-event/lit-happens-adult-book-club-13/
LOCATION:2950 West Liberty Avenue\, Pittsburgh\, PA\, United States
CATEGORIES:Book Club
GEO:40.400091;-80.046176
END:VEVENT
BEGIN:VEVENT
DTSTART;TZID=America/New_York:20261006T183000
DTEND;TZID=America/New_York:20261006T193000
DTSTAMP:20260421T171339
CREATED:20251223T180937Z
LAST-MODIFIED:20260421T175345Z
UID:10001201-1791311400-1791315000@dormontlibrary.org
SUMMARY:Doggie Storytime (2026)
DESCRIPTION:Doggie Storytime is a special storytime for kids in kindergarten to 3rd Grade where kids can practice reading to dogs! One or more therapy dogs and their handlers will be on hand to listen. (And maybe the kids can pet the dog a little too.)
URL:https://dormontlibrary.org/wp-event/doggie-storytime-2026-10/
LOCATION:2950 West Liberty Avenue\, Pittsburgh\, PA\, United States
CATEGORIES:Storytime
GEO:40.400091;-80.046176
END:VEVENT
BEGIN:VEVENT
DTSTART;TZID=America/New_York:20261017T103000
DTEND;TZID=America/New_York:20261017T113000
DTSTAMP:20260421T171339
CREATED:20251223T180938Z
LAST-MODIFIED:20260421T175345Z
UID:10001202-1792233000-1792236600@dormontlibrary.org
SUMMARY:LEGO Club (2026)
DESCRIPTION:Children and families are welcome at our monthly LEGO club! Use our big bin of LEGO and compatible bricks to put together a creation that’s uniquely your own.If you can imagine it\, you can build it.
URL:https://dormontlibrary.org/wp-event/lego-club-2026-10/
LOCATION:2950 West Liberty Avenue\, Pittsburgh\, PA\, United States
CATEGORIES:Arts & Crafts
GEO:40.400091;-80.046176
END:VEVENT
BEGIN:VEVENT
DTSTART;TZID=America/New_York:20261103T183000
DTEND;TZID=America/New_York:20261103T193000
DTSTAMP:20260421T171339
CREATED:20251223T180938Z
LAST-MODIFIED:20260421T175345Z
UID:10001203-1793730600-1793734200@dormontlibrary.org
SUMMARY:Doggie Storytime (2026)
DESCRIPTION:Doggie Storytime is a special storytime for kids in kindergarten to 3rd Grade where kids can practice reading to dogs! One or more therapy dogs and their handlers will be on hand to listen. (And maybe the kids can pet the dog a little too.)
URL:https://dormontlibrary.org/wp-event/doggie-storytime-2026-11/
LOCATION:2950 West Liberty Avenue\, Pittsburgh\, PA\, United States
CATEGORIES:Storytime
GEO:40.400091;-80.046176
END:VEVENT
BEGIN:VEVENT
DTSTART;TZID=America/New_York:20261107T130000
DTEND;TZID=America/New_York:20261107T143000
DTSTAMP:20260421T171339
CREATED:20260106T175418Z
LAST-MODIFIED:20260421T175345Z
UID:10001232-1794056400-1794061800@dormontlibrary.org
SUMMARY:Lit Happens Adult Book Club
DESCRIPTION:Lit Happens is our adult book club\, meeting the first Saturday monthly at 1 PM. \nBooks are chosen by the group members in three-month blocks. \nOur lineup for 2026 so far includes \n– January: The Life Cycle of the Common Octopus by Emma Knight– February: The Comfort Book by Matt Haig– March: Nothing to See Here by Kevin Wilson– April: Beautiful Ugly by Alice Feeney– May: Slaughterhouse-Five by Kurt Vonnegut– June: This Tender Land by William Kent Krueger– July/August/September: Decided at the June meeting– October/November/December: Decided at the September meeting
URL:https://dormontlibrary.org/wp-event/lit-happens-adult-book-club-14/
LOCATION:2950 West Liberty Avenue\, Pittsburgh\, PA\, United States
CATEGORIES:Book Club
GEO:40.400091;-80.046176
END:VEVENT
BEGIN:VEVENT
DTSTART;TZID=America/New_York:20261121T103000
DTEND;TZID=America/New_York:20261121T113000
DTSTAMP:20260421T171339
CREATED:20251223T180938Z
LAST-MODIFIED:20260421T175345Z
UID:10001204-1795257000-1795260600@dormontlibrary.org
SUMMARY:LEGO Club (2026)
DESCRIPTION:Children and families are welcome at our monthly LEGO club! Use our big bin of LEGO and compatible bricks to put together a creation that’s uniquely your own.If you can imagine it\, you can build it.
URL:https://dormontlibrary.org/wp-event/lego-club-2026-11/
LOCATION:2950 West Liberty Avenue\, Pittsburgh\, PA\, United States
CATEGORIES:Arts & Crafts
GEO:40.400091;-80.046176
END:VEVENT
BEGIN:VEVENT
DTSTART;TZID=America/New_York:20261126T000000
DTEND;TZID=America/New_York:20261127T000000
DTSTAMP:20260421T171339
CREATED:20241230T163517Z
LAST-MODIFIED:20260421T175345Z
UID:10000756-1795651200-1795737600@dormontlibrary.org
SUMMARY:CLOSED: Thanksgiving
DESCRIPTION:The library will be closed all day on Thanksgiving Day and the day after Thanksgiving. We will re-open with our regular hours Saturday morning.
URL:https://dormontlibrary.org/wp-event/closed-thanksgiving-2/
LOCATION:2950 West Liberty Avenue\, Pittsburgh\, PA\, United States
GEO:40.400091;-80.046176
END:VEVENT
BEGIN:VEVENT
DTSTART;TZID=America/New_York:20261201T183000
DTEND;TZID=America/New_York:20261201T193000
DTSTAMP:20260421T171339
CREATED:20251223T180939Z
LAST-MODIFIED:20260421T175346Z
UID:10001205-1796149800-1796153400@dormontlibrary.org
SUMMARY:Doggie Storytime (2026)
DESCRIPTION:Doggie Storytime is a special storytime for kids in kindergarten to 3rd Grade where kids can practice reading to dogs! One or more therapy dogs and their handlers will be on hand to listen. (And maybe the kids can pet the dog a little too.)
URL:https://dormontlibrary.org/wp-event/doggie-storytime-2026-12/
LOCATION:2950 West Liberty Avenue\, Pittsburgh\, PA\, United States
CATEGORIES:Storytime
GEO:40.400091;-80.046176
END:VEVENT
BEGIN:VEVENT
DTSTART;TZID=America/New_York:20261205T130000
DTEND;TZID=America/New_York:20261205T143000
DTSTAMP:20260421T171339
CREATED:20260106T175419Z
LAST-MODIFIED:20260421T175346Z
UID:10001233-1796475600-1796481000@dormontlibrary.org
SUMMARY:Lit Happens Adult Book Club
DESCRIPTION:Lit Happens is our adult book club\, meeting the first Saturday monthly at 1 PM. \nBooks are chosen by the group members in three-month blocks. \nOur lineup for 2026 so far includes \n– January: The Life Cycle of the Common Octopus by Emma Knight– February: The Comfort Book by Matt Haig– March: Nothing to See Here by Kevin Wilson– April: Beautiful Ugly by Alice Feeney– May: Slaughterhouse-Five by Kurt Vonnegut– June: This Tender Land by William Kent Krueger– July/August/September: Decided at the June meeting– October/November/December: Decided at the September meeting
URL:https://dormontlibrary.org/wp-event/lit-happens-adult-book-club-15/
LOCATION:2950 West Liberty Avenue\, Pittsburgh\, PA\, United States
CATEGORIES:Book Club
GEO:40.400091;-80.046176
END:VEVENT
BEGIN:VEVENT
DTSTART;TZID=America/New_York:20261219T103000
DTEND;TZID=America/New_York:20261219T113000
DTSTAMP:20260421T171339
CREATED:20251223T180939Z
LAST-MODIFIED:20260421T175346Z
UID:10001206-1797676200-1797679800@dormontlibrary.org
SUMMARY:LEGO Club (2026)
DESCRIPTION:Children and families are welcome at our monthly LEGO club! Use our big bin of LEGO and compatible bricks to put together a creation that’s uniquely your own.If you can imagine it\, you can build it.
URL:https://dormontlibrary.org/wp-event/lego-club-2026-12/
LOCATION:2950 West Liberty Avenue\, Pittsburgh\, PA\, United States
CATEGORIES:Arts & Crafts
GEO:40.400091;-80.046176
END:VEVENT
BEGIN:VEVENT
DTSTART;TZID=America/New_York:20261225T000000
DTEND;TZID=America/New_York:20261225T000000
DTSTAMP:20260421T171339
CREATED:20241230T163517Z
LAST-MODIFIED:20260421T175346Z
UID:10000758-1798156800-1798156800@dormontlibrary.org
SUMMARY:CLOSED: Christmas Day
DESCRIPTION:The library will be closed on Christmas Day.
URL:https://dormontlibrary.org/wp-event/closed-christmas-day-2/
LOCATION:2950 West Liberty Avenue\, Pittsburgh\, PA\, United States
GEO:40.400091;-80.046176
END:VEVENT
BEGIN:VEVENT
DTSTART;TZID=America/New_York:20270101T000000
DTEND;TZID=America/New_York:20270101T000000
DTSTAMP:20260421T171339
CREATED:20250116T190213Z
LAST-MODIFIED:20260421T175346Z
UID:10000792-1798761600-1798761600@dormontlibrary.org
SUMMARY:CLOSED: New Year's Day
DESCRIPTION:The library will be closed on New Year’s Day.
URL:https://dormontlibrary.org/wp-event/closed-new-years-day-3/
LOCATION:2950 West Liberty Avenue\, Pittsburgh\, PA\, United States
GEO:40.400091;-80.046176
END:VEVENT
BEGIN:VEVENT
DTSTART;TZID=America/New_York:20270102T130000
DTEND;TZID=America/New_York:20270102T143000
DTSTAMP:20260421T171339
CREATED:20260106T175420Z
LAST-MODIFIED:20260421T175347Z
UID:10001234-1798894800-1798900200@dormontlibrary.org
SUMMARY:Lit Happens Adult Book Club
DESCRIPTION:Lit Happens is our adult book club\, meeting the first Saturday monthly at 1 PM. \nBooks are chosen by the group members in three-month blocks. \nOur lineup for 2026 so far includes \n– January: The Life Cycle of the Common Octopus by Emma Knight– February: The Comfort Book by Matt Haig– March: Nothing to See Here by Kevin Wilson– April: Beautiful Ugly by Alice Feeney– May: Slaughterhouse-Five by Kurt Vonnegut– June: This Tender Land by William Kent Krueger– July/August/September: Decided at the June meeting– October/November/December: Decided at the September meeting
URL:https://dormontlibrary.org/wp-event/lit-happens-adult-book-club-16/
LOCATION:2950 West Liberty Avenue\, Pittsburgh\, PA\, United States
CATEGORIES:Book Club
GEO:40.400091;-80.046176
END:VEVENT
BEGIN:VEVENT
DTSTART;TZID=America/New_York:20271125T000000
DTEND;TZID=America/New_York:20271126T000000
DTSTAMP:20260421T171339
CREATED:20251125T230843Z
LAST-MODIFIED:20260421T175347Z
UID:10001082-1827100800-1827187200@dormontlibrary.org
SUMMARY:CLOSED: Thanksgiving
DESCRIPTION:The library will be closed all day on Thanksgiving Day and the day after Thanksgiving. We will re-open with our regular hours Saturday morning.
URL:https://dormontlibrary.org/wp-event/closed-thanksgiving-3/
LOCATION:2950 West Liberty Avenue\, Pittsburgh\, PA\, United States
GEO:40.400091;-80.046176
END:VEVENT
BEGIN:VEVENT
DTSTART;TZID=America/New_York:20271225T000000
DTEND;TZID=America/New_York:20271225T000000
DTSTAMP:20260421T171339
CREATED:20251225T181051Z
LAST-MODIFIED:20260421T175347Z
UID:10001207-1829692800-1829692800@dormontlibrary.org
SUMMARY:CLOSED: Christmas Day
DESCRIPTION:The library will be closed on Christmas Day.
URL:https://dormontlibrary.org/wp-event/closed-christmas-day-3/
LOCATION:2950 West Liberty Avenue\, Pittsburgh\, PA\, United States
GEO:40.400091;-80.046176
END:VEVENT
BEGIN:VEVENT
DTSTART;TZID=America/New_York:20280101T000000
DTEND;TZID=America/New_York:20280101T000000
DTSTAMP:20260421T171339
CREATED:20260101T182403Z
LAST-MODIFIED:20260421T175347Z
UID:10001208-1830297600-1830297600@dormontlibrary.org
SUMMARY:CLOSED: New Year's Day
DESCRIPTION:The library will be closed on New Year’s Day.
URL:https://dormontlibrary.org/wp-event/closed-new-years-day-4/
LOCATION:2950 West Liberty Avenue\, Pittsburgh\, PA\, United States
GEO:40.400091;-80.046176
END:VEVENT
END:VCALENDAR